BEGIN:VCALENDAR
VERSION:2.0
PRODID:-//Smartlappenkoor Eignwies Hengelo - ECPv6.15.18//NONSGML v1.0//EN
CALSCALE:GREGORIAN
METHOD:PUBLISH
X-WR-CALNAME:Smartlappenkoor Eignwies Hengelo
X-ORIGINAL-URL:https://eignwieshengelo.nl
X-WR-CALDESC:Evenementen voor Smartlappenkoor Eignwies Hengelo
REFRESH-INTERVAL;VALUE=DURATION:PT1H
X-Robots-Tag:noindex
X-PUBLISHED-TTL:PT1H
BEGIN:VTIMEZONE
TZID:Europe/Amsterdam
BEGIN:DAYLIGHT
TZOFFSETFROM:+0100
TZOFFSETTO:+0200
TZNAME:CEST
DTSTART:20240331T010000
END:DAYLIGHT
BEGIN:STANDARD
TZOFFSETFROM:+0200
TZOFFSETTO:+0100
TZNAME:CET
DTSTART:20241027T010000
END:STANDARD
BEGIN:DAYLIGHT
TZOFFSETFROM:+0100
TZOFFSETTO:+0200
TZNAME:CEST
DTSTART:20250330T010000
END:DAYLIGHT
BEGIN:STANDARD
TZOFFSETFROM:+0200
TZOFFSETTO:+0100
TZNAME:CET
DTSTART:20251026T010000
END:STANDARD
BEGIN:DAYLIGHT
TZOFFSETFROM:+0100
TZOFFSETTO:+0200
TZNAME:CEST
DTSTART:20260329T010000
END:DAYLIGHT
BEGIN:STANDARD
TZOFFSETFROM:+0200
TZOFFSETTO:+0100
TZNAME:CET
DTSTART:20261025T010000
END:STANDARD
END:VTIMEZONE
BEGIN:VEVENT
DTSTART;TZID=Europe/Amsterdam:20250522T183000
DTEND;TZID=Europe/Amsterdam:20250522T183000
DTSTAMP:20260424T012538
CREATED:20260206T104211Z
LAST-MODIFIED:20260206T104211Z
UID:1220-1747938600-1747938600@eignwieshengelo.nl
SUMMARY:Optreden bij InteraktContour Enschede
DESCRIPTION:We geven een uitvoering bij InteraktContour\, locatie Geert de Leeuw gelegen aan de Wethouder Beversstraat 12 in Enschede ( aanvang 18.30 uur)
URL:https://eignwieshengelo.nl/event/optreden-bij-interaktcontour-enschede/
LOCATION:InteraktContour Enschede\, Wethouder Beversstraat 12\, Enschede\, Overijssel\, 7543 BL\, Netherlands
END:VEVENT
END:VCALENDAR